BEGIN:VCALENDAR
VERSION:2.0
PRODID:-//ChamberMaster//Event Calendar 2.0//EN
METHOD:PUBLISH
X-PUBLISHED-TTL:P3D
REFRESH-INTERVAL:P3D
CALSCALE:GREGORIAN
BEGIN:VEVENT
DTSTART:20211006T150000Z
DTEND:20211006T163000Z
X-MICROSOFT-CDO-ALLDAYEVENT:FALSE
SUMMARY:Regulating Single Use Plastics - The Way Forward - Session 1 of 2
DESCRIPTION:Regulating Single Use Plastics - The Way Forward \n\n \n\n \n\n\nSession 1 - Discussion of Government's Single Use Plastics Policy Paper \n\nDate: Wednesday\, October 6th 2021 \n\nTime: 12:00-1:30pm\n\nLocation: Zoom\n\n\n \n\nPlease join us as we are led by:\n\n \n\nDavid Northcott\n\nPolicy Analyst\n\nMinistry of Home Affairs \n\n \n\n& \n\n \n\nVanese Flood Gordon\n\nEducation and Enforcement Officer \n\n(Waste Management)\n\nMinistry of Public Works
X-ALT-DESC;FMTTYPE=text/html:<div style="text-align: center\;"><span style="color: rgb(50\, 49\, 48)\; font-family: Arial\, Verdana\, Helvetica\, sans-serif\; font-size: 20px\; font-weight: 700\; text-align: center\; white-space: pre-wrap\; background-color: rgb(255\, 255\, 255)\; text-decoration-line: underline\;">Regulating Single Use Plastics - The Way Forward</span><span style="font-size: 20px\; color: rgb(50\, 49\, 48)\; text-decoration-line: underline\; font-weight: bold\; font-family: Arial\, Verdana\, Helvetica\, sans-serif\;"> </span></div>\n\n<div style="text-align: center\;">&nbsp\;</div>\n\n<div style="text-align: center\;">&nbsp\;</div>\n\n<div style="text-align: center\;">\n<div style="color: rgb(64\, 63\, 66)\; font-family: Helvetica\, Arial\, sans-serif\; font-size: 12px\; white-space: pre-wrap\; background-color: rgb(255\, 255\, 255)\; text-align: center\;"><span style="font-size: 16px\; color: rgb(50\, 49\, 48)\; font-style: italic\; font-family: Arial\, Verdana\, Helvetica\, sans-serif\;">Session 1 - Discussion of Government&#39\;s Single Use Plastics Policy Paper </span></div>\n\n<div style="color: rgb(64\, 63\, 66)\; font-family: Helvetica\, Arial\, sans-serif\; font-size: 12px\; white-space: pre-wrap\; background-color: rgb(255\, 255\, 255)\; text-align: center\;"><span style="font-size: 16px\; color: rgb(50\, 49\, 48)\; font-style: italic\; font-family: Arial\, Verdana\, Helvetica\, sans-serif\;">Date: Wednesday\, October 6th 2021 </span></div>\n\n<div style="color: rgb(64\, 63\, 66)\; font-family: Helvetica\, Arial\, sans-serif\; font-size: 12px\; white-space: pre-wrap\; background-color: rgb(255\, 255\, 255)\; text-align: center\;"><span style="font-size: 16px\; color: rgb(50\, 49\, 48)\; font-style: italic\; font-family: Arial\, Verdana\, Helvetica\, sans-serif\;">Time: 12:00-1:30pm</span></div>\n\n<div style="color: rgb(64\, 63\, 66)\; font-family: Helvetica\, Arial\, sans-serif\; font-size: 12px\; white-space: pre-wrap\; background-color: rgb(255\, 255\, 255)\; text-align: center\;"><span style="font-size: 16px\; color: rgb(50\, 49\, 48)\; font-style: italic\; font-family: Arial\, Verdana\, Helvetica\, sans-serif\;">Location: Zoom</span></div>\n</div>\n\n<div style="text-align: center\;">&nbsp\;</div>\n\n<div style="text-align: center\;"><span style="font-size: 16px\; font-family: &quot\;Century Gothic&quot\;\, Calibri\, Helvetica\, Arial\, sans-serif\;">Please join us as we are led by:</span><br />\n&nbsp\;</div>\n\n<div style="text-align: center\;"><span style="font-size: 16px\; font-family: &quot\;Century Gothic&quot\;\, Calibri\, Helvetica\, Arial\, sans-serif\;">David Northcott</span></div>\n\n<div style="text-align: center\;"><span style="font-size: 16px\; font-family: &quot\;Century Gothic&quot\;\, Calibri\, Helvetica\, Arial\, sans-serif\;">Policy Analyst</span></div>\n\n<div style="text-align: center\;"><span style="font-size: 16px\; font-family: &quot\;Century Gothic&quot\;\, Calibri\, Helvetica\, Arial\, sans-serif\;">Ministry of Home Affairs </span></div>\n\n<div style="text-align: center\;">&nbsp\;</div>\n\n<div style="text-align: center\;"><span style="font-size: 16px\; font-family: &quot\;Century Gothic&quot\;\, Calibri\, Helvetica\, Arial\, sans-serif\;">&amp\; </span></div>\n\n<div style="text-align: center\;">&nbsp\;</div>\n\n<div style="text-align: center\;"><span style="font-size: 16px\; font-family: &quot\;Century Gothic&quot\;\, Calibri\, Helvetica\, Arial\, sans-serif\;">Vanese Flood Gordon</span></div>\n\n<div style="text-align: center\;"><span style="font-size: 16px\; font-family: &quot\;Century Gothic&quot\;\, Calibri\, Helvetica\, Arial\, sans-serif\;">Education and Enforcement Officer </span></div>\n\n<div style="text-align: center\;"><span style="font-size: 12px\; font-family: &quot\;Century Gothic&quot\;\, Calibri\, Helvetica\, Arial\, sans-serif\;">(Waste Management)</span></div>\n\n<div style="text-align: center\;"><span style="font-size: 16px\; font-family: &quot\;Century Gothic&quot\;\, Calibri\, Helvetica\, Arial\, sans-serif\;">Ministry of Public Works </span></div>\n\n<div style="text-align: center\;">&nbsp\;</div>\n
LOCATION:Zoom link will be sent 24 hours prior to all registrants
UID:e.3397.1949
SEQUENCE:3
DTSTAMP:20260419T194958Z
URL:http://bermuda.smartcms.site/events/details/regulating-single-use-plastics-the-way-forward-session-1-of-2-1949
END:VEVENT

END:VCALENDAR
