BEGIN:VCALENDAR
VERSION:2.0
PRODID:-//ChamberMaster//Event Calendar 2.0//EN
METHOD:PUBLISH
X-PUBLISHED-TTL:P3D
REFRESH-INTERVAL:P3D
CALSCALE:GREGORIAN
BEGIN:VEVENT
DTSTART:20211007T150000Z
DTEND:20211007T163000Z
X-MICROSOFT-CDO-ALLDAYEVENT:FALSE
SUMMARY:Regulating Single Use Plastics - The Way Forward - Session 2 of 2
DESCRIPTION:Regulating Single Use Plastics - The Way Forward\n\n \n\n \n\nSession 2 of 2 - The Problem with Plastic - Effects on the Environment \n\nDate: Thursday\, October 7th 2021 \n\nTime: 12:00pm\n\nLocation: Zoom \n\n \n\nKatie Berry \n\nExecutive Director\n\nKeep Bermuda Beautiful & Beyond Plastic\n\n&\n\nErich Hetzel \n\nBermuda Environmental Sustainability Taskforce & Beyond Plastic
X-ALT-DESC;FMTTYPE=text/html:<div style="color: rgb(64\, 63\, 66)\; font-family: Helvetica\, Arial\, sans-serif\; font-size: 12px\; white-space: pre-wrap\; background-color: rgb(255\, 255\, 255)\; text-align: center\;">\n<div style="color: rgb(64\, 63\, 66)\; font-family: Helvetica\, Arial\, sans-serif\; font-size: 12px\; white-space: pre-wrap\; background-color: rgb(255\, 255\, 255)\; text-align: center\;"><span style="color: rgb(50\, 49\, 48)\; font-family: Arial\, Verdana\, Helvetica\, sans-serif\; font-size: 20px\; font-weight: 700\; text-align: center\; white-space: pre-wrap\; background-color: rgb(255\, 255\, 255)\; text-decoration-line: underline\;">Regulating Single Use Plastics - The Way Forward</span></div>\n\n<div style="color: rgb(64\, 63\, 66)\; font-family: Helvetica\, Arial\, sans-serif\; font-size: 12px\; white-space: pre-wrap\; background-color: rgb(255\, 255\, 255)\; text-align: center\;">&nbsp\;</div>\n\n<div style="color: rgb(64\, 63\, 66)\; font-family: Helvetica\, Arial\, sans-serif\; font-size: 12px\; white-space: pre-wrap\; background-color: rgb(255\, 255\, 255)\; text-align: center\;">&nbsp\;</div>\n\n<div style="color: rgb(64\, 63\, 66)\; font-family: Helvetica\, Arial\, sans-serif\; font-size: 12px\; white-space: pre-wrap\; background-color: rgb(255\, 255\, 255)\; text-align: center\;"><span style="font-size: 16px\; color: rgb(50\, 49\, 48)\; font-style: italic\; font-family: Arial\, Verdana\, Helvetica\, sans-serif\;">Session 2 of 2 - The Problem with Plastic - Effects on the Environment </span></div>\n\n<div style="color: rgb(64\, 63\, 66)\; font-family: Helvetica\, Arial\, sans-serif\; font-size: 12px\; white-space: pre-wrap\; background-color: rgb(255\, 255\, 255)\; text-align: center\;"><span style="font-size: 16px\; color: rgb(50\, 49\, 48)\; font-style: italic\; font-family: Arial\, Verdana\, Helvetica\, sans-serif\;">Date: Thursday\, October 7th 2021 </span></div>\n\n<div style="color: rgb(64\, 63\, 66)\; font-family: Helvetica\, Arial\, sans-serif\; font-size: 12px\; white-space: pre-wrap\; background-color: rgb(255\, 255\, 255)\; text-align: center\;"><span style="font-size: 16px\; color: rgb(50\, 49\, 48)\; font-style: italic\; font-family: Arial\, Verdana\, Helvetica\, sans-serif\;">Time: 12:00pm</span></div>\n\n<div style="color: rgb(64\, 63\, 66)\; font-family: Helvetica\, Arial\, sans-serif\; font-size: 12px\; white-space: pre-wrap\; background-color: rgb(255\, 255\, 255)\; text-align: center\;"><span style="font-size: 16px\; color: rgb(50\, 49\, 48)\; font-style: italic\; font-family: Arial\, Verdana\, Helvetica\, sans-serif\;">Location: Zoom </span></div>\n\n<div style="color: rgb(64\, 63\, 66)\; font-family: Helvetica\, Arial\, sans-serif\; font-size: 12px\; white-space: pre-wrap\; background-color: rgb(255\, 255\, 255)\; text-align: center\;">&nbsp\;</div>\n\n<div style="color: rgb(64\, 63\, 66)\; font-family: Helvetica\, Arial\, sans-serif\; font-size: 12px\; white-space: pre-wrap\; background-color: rgb(255\, 255\, 255)\; text-align: center\;"><span style="font-size: 16px\; font-family: &quot\;Century Gothic&quot\;\, Calibri\, Helvetica\, Arial\, sans-serif\;">Katie Berry </span></div>\n\n<div style="color: rgb(64\, 63\, 66)\; font-family: Helvetica\, Arial\, sans-serif\; font-size: 12px\; white-space: pre-wrap\; background-color: rgb(255\, 255\, 255)\; text-align: center\;"><span style="font-size: 16px\; color: rgb(0\, 0\, 0)\; font-family: &quot\;Century Gothic&quot\;\, Calibri\, Helvetica\, Arial\, sans-serif\;">Executive Director</span></div>\n\n<div style="color: rgb(64\, 63\, 66)\; font-family: Helvetica\, Arial\, sans-serif\; font-size: 12px\; white-space: pre-wrap\; background-color: rgb(255\, 255\, 255)\; text-align: center\;"><span style="font-size: 16px\; color: black\; font-family: &quot\;Century Gothic&quot\;\, Calibri\, Helvetica\, Arial\, sans-serif\;">Keep Bermuda Beautiful &amp\; Beyond Plastic</span></div>\n\n<div style="color: rgb(64\, 63\, 66)\; font-family: Helvetica\, Arial\, sans-serif\; font-size: 12px\; white-space: pre-wrap\; background-color: rgb(255\, 255\, 255)\; text-align: center\;"><span style="color: rgb(0\, 0\, 0)\; font-family: &quot\;Century Gothic&quot\;\, Calibri\, Helvetica\, Arial\, sans-serif\;">&amp\;</span></div>\n\n<div style="color: rgb(64\, 63\, 66)\; font-family: Helvetica\, Arial\, sans-serif\; font-size: 12px\; white-space: pre-wrap\; background-color: rgb(255\, 255\, 255)\; text-align: center\;"><span style="font-size: 16px\; color: rgb(50\, 49\, 48)\; font-family: &quot\;Century Gothic&quot\;\, Calibri\, Helvetica\, Arial\, sans-serif\;">Erich Hetzel&nbsp\;</span></div>\n\n<div style="color: rgb(64\, 63\, 66)\; font-family: Helvetica\, Arial\, sans-serif\; font-size: 12px\; white-space: pre-wrap\; background-color: rgb(255\, 255\, 255)\; text-align: center\;"><span style="font-size: 16px\; color: black\; font-family: &quot\;Century Gothic&quot\;\, Calibri\, Helvetica\, Arial\, sans-serif\;">Bermuda Environmental Sustainability Taskforce &amp\; Beyond Plastic</span></div>\n</div>\n
LOCATION:Via Zoom Webinar - Link will be emailed to all Registrants
UID:e.3397.1945
SEQUENCE:3
DTSTAMP:20260419T180626Z
URL:http://bermuda.smartcms.site/events/details/regulating-single-use-plastics-the-way-forward-session-2-of-2-1945
END:VEVENT

END:VCALENDAR
